BEGIN:VCALENDAR
VERSION:2.0
PRODID:-//BSV Oberbayern - ECPv6.15.20//NONSGML v1.0//EN
CALSCALE:GREGORIAN
METHOD:PUBLISH
X-WR-CALNAME:BSV Oberbayern
X-ORIGINAL-URL:https://bsv-oberbayern.de
X-WR-CALDESC:Veranstaltungen für BSV Oberbayern
REFRESH-INTERVAL;VALUE=DURATION:PT1H
X-Robots-Tag:noindex
X-PUBLISHED-TTL:PT1H
BEGIN:VTIMEZONE
TZID:Europe/Berlin
BEGIN:DAYLIGHT
TZOFFSETFROM:+0100
TZOFFSETTO:+0200
TZNAME:CEST
DTSTART:20230326T010000
END:DAYLIGHT
BEGIN:STANDARD
TZOFFSETFROM:+0200
TZOFFSETTO:+0100
TZNAME:CET
DTSTART:20231029T010000
END:STANDARD
BEGIN:DAYLIGHT
TZOFFSETFROM:+0100
TZOFFSETTO:+0200
TZNAME:CEST
DTSTART:20240331T010000
END:DAYLIGHT
BEGIN:STANDARD
TZOFFSETFROM:+0200
TZOFFSETTO:+0100
TZNAME:CET
DTSTART:20241027T010000
END:STANDARD
BEGIN:DAYLIGHT
TZOFFSETFROM:+0100
TZOFFSETTO:+0200
TZNAME:CEST
DTSTART:20250330T010000
END:DAYLIGHT
BEGIN:STANDARD
TZOFFSETFROM:+0200
TZOFFSETTO:+0100
TZNAME:CET
DTSTART:20251026T010000
END:STANDARD
BEGIN:DAYLIGHT
TZOFFSETFROM:+0100
TZOFFSETTO:+0200
TZNAME:CEST
DTSTART:20260329T010000
END:DAYLIGHT
BEGIN:STANDARD
TZOFFSETFROM:+0200
TZOFFSETTO:+0100
TZNAME:CET
DTSTART:20261025T010000
END:STANDARD
BEGIN:DAYLIGHT
TZOFFSETFROM:+0100
TZOFFSETTO:+0200
TZNAME:CEST
DTSTART:20270328T010000
END:DAYLIGHT
BEGIN:STANDARD
TZOFFSETFROM:+0200
TZOFFSETTO:+0100
TZNAME:CET
DTSTART:20271031T010000
END:STANDARD
END:VTIMEZONE
BEGIN:VEVENT
DTSTART;TZID=Europe/Berlin:20260412T083000
DTEND;TZID=Europe/Berlin:20260412T180000
DTSTAMP:20260421T113920
CREATED:20260301T211314Z
LAST-MODIFIED:20260320T071954Z
UID:10000261-1775982600-1776016800@bsv-oberbayern.de
SUMMARY:Ausbildung Wettkampfrichter 2026-4 (AUSGEBUCHT)
DESCRIPTION:Ausschreibung WKR-Ausbildung\nAnmeldeformular Teilnehmer WKR-Ausbildung\nFormular Einzugsermächtigung
URL:https://bsv-oberbayern.de/event/ausbildung-wettkampfrichter-2026-4-freie-plaetze-20/
LOCATION:Sportschule Oberhaching\, Am Loh 2\, Oberhaching\, 82041\, Deutschland
CATEGORIES:Kampfrichterausbildung
ATTACH;FMTTYPE=image/jpeg:https://bsv-oberbayern.de/wp-content/uploads/2021/04/swimming-924895_1920.jpg
END:VEVENT
BEGIN:VEVENT
DTSTART;TZID=Europe/Berlin:20260411T083000
DTEND;TZID=Europe/Berlin:20260411T180000
DTSTAMP:20260421T113920
CREATED:20260301T211303Z
LAST-MODIFIED:20260322T203637Z
UID:10000260-1775896200-1775930400@bsv-oberbayern.de
SUMMARY:Ausbildung Wettkampfrichter 2026-3 (AUSGEBUCHT)
DESCRIPTION:Ausschreibung WKR-Ausbildung\nAnmeldeformular Teilnehmer WKR-Ausbildung\nFormular Einzugsermächtigung
URL:https://bsv-oberbayern.de/event/ausbildung-wettkampfrichter-2026-3-freie-plaetze-20/
LOCATION:Sportschule Oberhaching\, Am Loh 2\, Oberhaching\, 82041\, Deutschland
CATEGORIES:Kampfrichterausbildung
ATTACH;FMTTYPE=image/jpeg:https://bsv-oberbayern.de/wp-content/uploads/2021/04/swimming-924895_1920.jpg
END:VEVENT
BEGIN:VEVENT
DTSTART;TZID=Europe/Berlin:20260329T083000
DTEND;TZID=Europe/Berlin:20260329T180000
DTSTAMP:20260421T113920
CREATED:20260301T211243Z
LAST-MODIFIED:20260320T065106Z
UID:10000259-1774773000-1774807200@bsv-oberbayern.de
SUMMARY:Ausbildung Wettkampfrichter 2026-2 (AUSGEBUCHT)
DESCRIPTION:Ausschreibung WKR-Ausbildung\nAnmeldeformular Teilnehmer WKR-Ausbildung\nFormular Einzugsermächtigung
URL:https://bsv-oberbayern.de/event/ausbildung-wettkampfrichter-2026-2-freie-plaetze-20/
LOCATION:Sportschule Oberhaching\, Am Loh 2\, Oberhaching\, 82041\, Deutschland
CATEGORIES:Kampfrichterausbildung
ATTACH;FMTTYPE=image/jpeg:https://bsv-oberbayern.de/wp-content/uploads/2021/04/swimming-924895_1920.jpg
END:VEVENT
BEGIN:VEVENT
DTSTART;TZID=Europe/Berlin:20260328T083000
DTEND;TZID=Europe/Berlin:20260328T180000
DTSTAMP:20260421T113920
CREATED:20260301T211210Z
LAST-MODIFIED:20260311T220502Z
UID:10000258-1774686600-1774720800@bsv-oberbayern.de
SUMMARY:Ausbildung Wettkampfrichter 2026-1 (AUSGEBUCHT)
DESCRIPTION:Ausschreibung WKR-Ausbildung\nAnmeldeformular Teilnehmer WKR-Ausbildung\nFormular Einzugsermächtigung
URL:https://bsv-oberbayern.de/event/ausbildung-wettkampfrichter-2026-1-freie-plaetze-20/
LOCATION:Sportschule Oberhaching\, Am Loh 2\, Oberhaching\, 82041\, Deutschland
CATEGORIES:Kampfrichterausbildung
ATTACH;FMTTYPE=image/jpeg:https://bsv-oberbayern.de/wp-content/uploads/2021/04/swimming-924895_1920.jpg
END:VEVENT
BEGIN:VEVENT
DTSTART;TZID=Europe/Berlin:20251116T151500
DTEND;TZID=Europe/Berlin:20251116T180000
DTSTAMP:20260421T113920
CREATED:20251018T203653Z
LAST-MODIFIED:20251018T203653Z
UID:10000257-1763306100-1763316000@bsv-oberbayern.de
SUMMARY:Fortbildung Wettkampfrichter 2025-6
DESCRIPTION:Ausschreibung WKR-Fortbildung\n  \nSEPA-Mandatsformular
URL:https://bsv-oberbayern.de/event/fortbildung-wettkampfrichter-2025-6/
LOCATION:Sportschule Oberhaching\, Am Loh 2\, Oberhaching\, 82041\, Deutschland
CATEGORIES:Kampfrichterausbildung
ATTACH;FMTTYPE=image/jpeg:https://bsv-oberbayern.de/wp-content/uploads/2021/04/swimming-924895_1920.jpg
END:VEVENT
BEGIN:VEVENT
DTSTART;TZID=Europe/Berlin:20251116T120000
DTEND;TZID=Europe/Berlin:20251116T144500
DTSTAMP:20260421T113920
CREATED:20251018T203626Z
LAST-MODIFIED:20251018T203626Z
UID:10000256-1763294400-1763304300@bsv-oberbayern.de
SUMMARY:Fortbildung Wettkampfrichter 2025-5
DESCRIPTION:Ausschreibung WKR-Fortbildung\n  \nSEPA-Mandatsformular
URL:https://bsv-oberbayern.de/event/fortbildung-wettkampfrichter-2025-5/
LOCATION:Sportschule Oberhaching\, Am Loh 2\, Oberhaching\, 82041\, Deutschland
CATEGORIES:Kampfrichterausbildung
ATTACH;FMTTYPE=image/jpeg:https://bsv-oberbayern.de/wp-content/uploads/2021/04/swimming-924895_1920.jpg
END:VEVENT
BEGIN:VEVENT
DTSTART;TZID=Europe/Berlin:20251116T084500
DTEND;TZID=Europe/Berlin:20251116T113000
DTSTAMP:20260421T113920
CREATED:20251018T203454Z
LAST-MODIFIED:20251018T203454Z
UID:10000255-1763282700-1763292600@bsv-oberbayern.de
SUMMARY:Fortbildung Wettkampfrichter 2025-4
DESCRIPTION:Ausschreibung WKR-Fortbildung\n  \nSEPA-Mandatsformular
URL:https://bsv-oberbayern.de/event/fortbildung-wettkampfrichter-2025-4/
LOCATION:Sportschule Oberhaching\, Am Loh 2\, Oberhaching\, 82041\, Deutschland
CATEGORIES:Kampfrichterausbildung
ATTACH;FMTTYPE=image/jpeg:https://bsv-oberbayern.de/wp-content/uploads/2021/04/swimming-924895_1920.jpg
END:VEVENT
BEGIN:VEVENT
DTSTART;TZID=Europe/Berlin:20251115T151500
DTEND;TZID=Europe/Berlin:20251115T180000
DTSTAMP:20260421T113920
CREATED:20251005T152901Z
LAST-MODIFIED:20251005T152901Z
UID:10000253-1763219700-1763229600@bsv-oberbayern.de
SUMMARY:Fortbildung Wettkampfrichter 2025-3
DESCRIPTION:Ausschreibung WKR-Fortbildung\n  \nSEPA-Mandatsformular
URL:https://bsv-oberbayern.de/event/fortbildung-wettkampfrichter-2025-3/
LOCATION:Sportschule Oberhaching\, Am Loh 2\, Oberhaching\, 82041\, Deutschland
CATEGORIES:Kampfrichterausbildung
ATTACH;FMTTYPE=image/jpeg:https://bsv-oberbayern.de/wp-content/uploads/2021/04/swimming-924895_1920.jpg
END:VEVENT
BEGIN:VEVENT
DTSTART;TZID=Europe/Berlin:20251115T120000
DTEND;TZID=Europe/Berlin:20251115T144500
DTSTAMP:20260421T113920
CREATED:20251005T152826Z
LAST-MODIFIED:20251005T152826Z
UID:10000252-1763208000-1763217900@bsv-oberbayern.de
SUMMARY:Fortbildung Wettkampfrichter 2025-2
DESCRIPTION:Ausschreibung WKR-Fortbildung\n  \nSEPA-Mandatsformular
URL:https://bsv-oberbayern.de/event/fortbildung-wettkampfrichter-2025-2/
LOCATION:Sportschule Oberhaching\, Am Loh 2\, Oberhaching\, 82041\, Deutschland
CATEGORIES:Kampfrichterausbildung
ATTACH;FMTTYPE=image/jpeg:https://bsv-oberbayern.de/wp-content/uploads/2021/04/swimming-924895_1920.jpg
END:VEVENT
BEGIN:VEVENT
DTSTART;TZID=Europe/Berlin:20251115T084500
DTEND;TZID=Europe/Berlin:20251115T113000
DTSTAMP:20260421T113920
CREATED:20251005T152709Z
LAST-MODIFIED:20251005T152709Z
UID:10000251-1763196300-1763206200@bsv-oberbayern.de
SUMMARY:Fortbildung Wettkampfrichter 2025-1
DESCRIPTION:Ausschreibung WKR-Fortbildung\n  \nSEPA-Mandatsformular
URL:https://bsv-oberbayern.de/event/fortbildung-wettkampfrichter-2025-1/
LOCATION:Sportschule Oberhaching\, Am Loh 2\, Oberhaching\, 82041\, Deutschland
CATEGORIES:Kampfrichterausbildung
ATTACH;FMTTYPE=image/jpeg:https://bsv-oberbayern.de/wp-content/uploads/2021/04/swimming-924895_1920.jpg
END:VEVENT
BEGIN:VEVENT
DTSTART;TZID=Europe/Berlin:20251109T090000
DTEND;TZID=Europe/Berlin:20251109T180000
DTSTAMP:20260421T113920
CREATED:20251005T153253Z
LAST-MODIFIED:20251005T153253Z
UID:10000254-1762678800-1762711200@bsv-oberbayern.de
SUMMARY:Ausbildung Auswerter & Protokollführer
DESCRIPTION:Ausschreibung WKR-Auswertung\nAnmeldeformular Teilnehmer_AW & PKF_Ausbildung\nFormular Einzugsermächtigung
URL:https://bsv-oberbayern.de/event/ausbildung-auswerter-protokollfuehrer/
LOCATION:Sportschule Oberhaching\, Am Loh 2\, Oberhaching\, 82041\, Deutschland
CATEGORIES:Kampfrichterausbildung
ATTACH;FMTTYPE=image/jpeg:https://bsv-oberbayern.de/wp-content/uploads/2021/04/swimming-924895_1920.jpg
END:VEVENT
BEGIN:VEVENT
DTSTART;TZID=Europe/Berlin:20250518T083000
DTEND;TZID=Europe/Berlin:20250518T173000
DTSTAMP:20260421T113920
CREATED:20250309T212235Z
LAST-MODIFIED:20250324T190831Z
UID:10000245-1747557000-1747589400@bsv-oberbayern.de
SUMMARY:Ausbildung Wettkampfrichter 2025-3 (AUSGEBUCHT)
DESCRIPTION:Ausschreibung WKR-Ausbildung\nAnmeldeformular Teilnehmer WKR-Ausbildung\nFormular Einzugsermächtigung
URL:https://bsv-oberbayern.de/event/ausbildung-wettkampfrichter-2025-3-freie-plaetze-35/
LOCATION:Sportschule Oberhaching\, Am Loh 2\, Oberhaching\, 82041\, Deutschland
CATEGORIES:Kampfrichterausbildung
ATTACH;FMTTYPE=image/jpeg:https://bsv-oberbayern.de/wp-content/uploads/2021/04/swimming-924895_1920.jpg
END:VEVENT
BEGIN:VEVENT
DTSTART;TZID=Europe/Berlin:20250517T083000
DTEND;TZID=Europe/Berlin:20250517T173000
DTSTAMP:20260421T113920
CREATED:20250309T212216Z
LAST-MODIFIED:20250327T075046Z
UID:10000244-1747470600-1747503000@bsv-oberbayern.de
SUMMARY:Ausbildung Wettkampfrichter 2025-2 (AUSGEBUCHT)
DESCRIPTION:Ausschreibung WKR-Ausbildung\nAnmeldeformular Teilnehmer WKR-Ausbildung\nFormular Einzugsermächtigung
URL:https://bsv-oberbayern.de/event/ausbildung-wettkampfrichter-2025-2-freie-plaetze-35/
LOCATION:Sportschule Oberhaching\, Am Loh 2\, Oberhaching\, 82041\, Deutschland
CATEGORIES:Kampfrichterausbildung
ATTACH;FMTTYPE=image/jpeg:https://bsv-oberbayern.de/wp-content/uploads/2021/04/swimming-924895_1920.jpg
END:VEVENT
BEGIN:VEVENT
DTSTART;TZID=Europe/Berlin:20250405T083000
DTEND;TZID=Europe/Berlin:20250405T173000
DTSTAMP:20260421T113920
CREATED:20250309T212136Z
LAST-MODIFIED:20250324T190645Z
UID:10000243-1743841800-1743874200@bsv-oberbayern.de
SUMMARY:Ausbildung Wettkampfrichter 2025-1 (AUSGEBUCHT)
DESCRIPTION:Ausschreibung WKR-Ausbildung\nAnmeldeformular Teilnehmer WKR-Ausbildung\nFormular Einzugsermächtigung
URL:https://bsv-oberbayern.de/event/ausbildung-wettkampfrichter-2025-1-freie-plaetze-35/
LOCATION:Sportschule Oberhaching\, Am Loh 2\, Oberhaching\, 82041\, Deutschland
CATEGORIES:Kampfrichterausbildung
ATTACH;FMTTYPE=image/jpeg:https://bsv-oberbayern.de/wp-content/uploads/2021/04/swimming-924895_1920.jpg
END:VEVENT
BEGIN:VEVENT
DTSTART;TZID=Europe/Berlin:20241117T083000
DTEND;TZID=Europe/Berlin:20241117T173000
DTSTAMP:20260421T113920
CREATED:20241006T204958Z
LAST-MODIFIED:20241101T081750Z
UID:10000234-1731832200-1731864600@bsv-oberbayern.de
SUMMARY:Ausbildung Wettkampfrichter 2024-6 (vollständig Ausgebucht)
DESCRIPTION:Ausschreibung WKR-Ausbildung\nAnmeldeformular Teilnehmer_WKR_Ausbildung\nEinzugsermächtigung
URL:https://bsv-oberbayern.de/event/voraussichtlich-ausbildung-wettkampfrichter-2024-6-noch-nicht-bestaetigt/
LOCATION:Sportschule Oberhaching\, Am Loh 2\, Oberhaching\, 82041\, Deutschland
CATEGORIES:Kampfrichterausbildung
ATTACH;FMTTYPE=image/jpeg:https://bsv-oberbayern.de/wp-content/uploads/2021/04/swimming-924895_1920.jpg
END:VEVENT
BEGIN:VEVENT
DTSTART;TZID=Europe/Berlin:20240616T090000
DTEND;TZID=Europe/Berlin:20240616T180000
DTSTAMP:20260421T113920
CREATED:20240520T182720Z
LAST-MODIFIED:20240520T191517Z
UID:10000216-1718528400-1718560800@bsv-oberbayern.de
SUMMARY:Ausbildung Wettkampfrichter 2024-5
DESCRIPTION:Ausschreibung Wettkampfrichter „Ausbildung-WKR 2024-5“\n  \nAnmeldeformular Teilnehmer_WKR_Ausbildung\n  \nEinzugsermächtigung\n(Bitte nicht per Post sondern per Mail der Anmeldung anhängen)
URL:https://bsv-oberbayern.de/event/ausbildung-wettkampfrichter-2024-4/
LOCATION:Sportschule Oberhaching\, Am Loh 2\, Oberhaching\, 82041\, Deutschland
CATEGORIES:Kampfrichterausbildung
ATTACH;FMTTYPE=image/jpeg:https://bsv-oberbayern.de/wp-content/uploads/2021/04/swimming-924895_1920.jpg
END:VEVENT
END:VCALENDAR