BEGIN:VCALENDAR
VERSION:2.0
PRODID:-//BSV Oberbayern - ECPv6.15.20//NONSGML v1.0//EN
CALSCALE:GREGORIAN
METHOD:PUBLISH
X-ORIGINAL-URL:https://bsv-oberbayern.de
X-WR-CALDESC:Veranstaltungen für BSV Oberbayern
REFRESH-INTERVAL;VALUE=DURATION:PT1H
X-Robots-Tag:noindex
X-PUBLISHED-TTL:PT1H
BEGIN:VTIMEZONE
TZID:Europe/Berlin
BEGIN:DAYLIGHT
TZOFFSETFROM:+0100
TZOFFSETTO:+0200
TZNAME:CEST
DTSTART:20230326T010000
END:DAYLIGHT
BEGIN:STANDARD
TZOFFSETFROM:+0200
TZOFFSETTO:+0100
TZNAME:CET
DTSTART:20231029T010000
END:STANDARD
BEGIN:DAYLIGHT
TZOFFSETFROM:+0100
TZOFFSETTO:+0200
TZNAME:CEST
DTSTART:20240331T010000
END:DAYLIGHT
BEGIN:STANDARD
TZOFFSETFROM:+0200
TZOFFSETTO:+0100
TZNAME:CET
DTSTART:20241027T010000
END:STANDARD
BEGIN:DAYLIGHT
TZOFFSETFROM:+0100
TZOFFSETTO:+0200
TZNAME:CEST
DTSTART:20250330T010000
END:DAYLIGHT
BEGIN:STANDARD
TZOFFSETFROM:+0200
TZOFFSETTO:+0100
TZNAME:CET
DTSTART:20251026T010000
END:STANDARD
BEGIN:DAYLIGHT
TZOFFSETFROM:+0100
TZOFFSETTO:+0200
TZNAME:CEST
DTSTART:20260329T010000
END:DAYLIGHT
BEGIN:STANDARD
TZOFFSETFROM:+0200
TZOFFSETTO:+0100
TZNAME:CET
DTSTART:20261025T010000
END:STANDARD
END:VTIMEZONE
BEGIN:VEVENT
DTSTART;TZID=Europe/Berlin:20250517T083000
DTEND;TZID=Europe/Berlin:20250517T173000
DTSTAMP:20260421T130147
CREATED:20250309T212216Z
LAST-MODIFIED:20250327T075046Z
UID:10000244-1747470600-1747503000@bsv-oberbayern.de
SUMMARY:Ausbildung Wettkampfrichter 2025-2 (AUSGEBUCHT)
DESCRIPTION:Ausschreibung WKR-Ausbildung\nAnmeldeformular Teilnehmer WKR-Ausbildung\nFormular Einzugsermächtigung
URL:https://bsv-oberbayern.de/event/ausbildung-wettkampfrichter-2025-2-freie-plaetze-35/
LOCATION:Sportschule Oberhaching\, Am Loh 2\, Oberhaching\, 82041\, Deutschland
CATEGORIES:Kampfrichterausbildung
ATTACH;FMTTYPE=image/jpeg:https://bsv-oberbayern.de/wp-content/uploads/2021/04/swimming-924895_1920.jpg
END:VEVENT
BEGIN:VEVENT
DTSTART;TZID=Europe/Berlin:20250405T083000
DTEND;TZID=Europe/Berlin:20250405T173000
DTSTAMP:20260421T130147
CREATED:20250309T212136Z
LAST-MODIFIED:20250324T190645Z
UID:10000243-1743841800-1743874200@bsv-oberbayern.de
SUMMARY:Ausbildung Wettkampfrichter 2025-1 (AUSGEBUCHT)
DESCRIPTION:Ausschreibung WKR-Ausbildung\nAnmeldeformular Teilnehmer WKR-Ausbildung\nFormular Einzugsermächtigung
URL:https://bsv-oberbayern.de/event/ausbildung-wettkampfrichter-2025-1-freie-plaetze-35/
LOCATION:Sportschule Oberhaching\, Am Loh 2\, Oberhaching\, 82041\, Deutschland
CATEGORIES:Kampfrichterausbildung
ATTACH;FMTTYPE=image/jpeg:https://bsv-oberbayern.de/wp-content/uploads/2021/04/swimming-924895_1920.jpg
END:VEVENT
BEGIN:VEVENT
DTSTART;TZID=Europe/Berlin:20241117T083000
DTEND;TZID=Europe/Berlin:20241117T173000
DTSTAMP:20260421T130147
CREATED:20241006T204958Z
LAST-MODIFIED:20241101T081750Z
UID:10000234-1731832200-1731864600@bsv-oberbayern.de
SUMMARY:Ausbildung Wettkampfrichter 2024-6 (vollständig Ausgebucht)
DESCRIPTION:Ausschreibung WKR-Ausbildung\nAnmeldeformular Teilnehmer_WKR_Ausbildung\nEinzugsermächtigung
URL:https://bsv-oberbayern.de/event/voraussichtlich-ausbildung-wettkampfrichter-2024-6-noch-nicht-bestaetigt/
LOCATION:Sportschule Oberhaching\, Am Loh 2\, Oberhaching\, 82041\, Deutschland
CATEGORIES:Kampfrichterausbildung
ATTACH;FMTTYPE=image/jpeg:https://bsv-oberbayern.de/wp-content/uploads/2021/04/swimming-924895_1920.jpg
END:VEVENT
BEGIN:VEVENT
DTSTART;TZID=Europe/Berlin:20240616T090000
DTEND;TZID=Europe/Berlin:20240616T180000
DTSTAMP:20260421T130147
CREATED:20240520T182720Z
LAST-MODIFIED:20240520T191517Z
UID:10000216-1718528400-1718560800@bsv-oberbayern.de
SUMMARY:Ausbildung Wettkampfrichter 2024-5
DESCRIPTION:Ausschreibung Wettkampfrichter „Ausbildung-WKR 2024-5“\n  \nAnmeldeformular Teilnehmer_WKR_Ausbildung\n  \nEinzugsermächtigung\n(Bitte nicht per Post sondern per Mail der Anmeldung anhängen)
URL:https://bsv-oberbayern.de/event/ausbildung-wettkampfrichter-2024-4/
LOCATION:Sportschule Oberhaching\, Am Loh 2\, Oberhaching\, 82041\, Deutschland
CATEGORIES:Kampfrichterausbildung
ATTACH;FMTTYPE=image/jpeg:https://bsv-oberbayern.de/wp-content/uploads/2021/04/swimming-924895_1920.jpg
END:VEVENT
END:VCALENDAR